BEGIN:VCALENDAR
VERSION:2.0
PRODID:-//Texas East Kids - ECPv6.15.20//NONSGML v1.0//EN
CALSCALE:GREGORIAN
METHOD:PUBLISH
X-ORIGINAL-URL:https://texaseastkids.com
X-WR-CALDESC:Events for Texas East Kids
REFRESH-INTERVAL;VALUE=DURATION:PT1H
X-Robots-Tag:noindex
X-PUBLISHED-TTL:PT1H
BEGIN:VTIMEZONE
TZID:America/Chicago
BEGIN:DAYLIGHT
TZOFFSETFROM:-0600
TZOFFSETTO:-0500
TZNAME:CDT
DTSTART:20240310T080000
END:DAYLIGHT
BEGIN:STANDARD
TZOFFSETFROM:-0500
TZOFFSETTO:-0600
TZNAME:CST
DTSTART:20241103T070000
END:STANDARD
BEGIN:DAYLIGHT
TZOFFSETFROM:-0600
TZOFFSETTO:-0500
TZNAME:CDT
DTSTART:20250309T080000
END:DAYLIGHT
BEGIN:STANDARD
TZOFFSETFROM:-0500
TZOFFSETTO:-0600
TZNAME:CST
DTSTART:20251102T070000
END:STANDARD
BEGIN:DAYLIGHT
TZOFFSETFROM:-0600
TZOFFSETTO:-0500
TZNAME:CDT
DTSTART:20260308T080000
END:DAYLIGHT
BEGIN:STANDARD
TZOFFSETFROM:-0500
TZOFFSETTO:-0600
TZNAME:CST
DTSTART:20261101T070000
END:STANDARD
END:VTIMEZONE
BEGIN:VEVENT
DTSTART;TZID=America/Chicago:20251213T130000
DTEND;TZID=America/Chicago:20251213T140000
DTSTAMP:20260420T034946
CREATED:20250815T214938Z
LAST-MODIFIED:20250815T214938Z
UID:4968-1765630800-1765634400@texaseastkids.com
SUMMARY:Back Handspring Clinic
DESCRIPTION:Do you just need some extra work on your back handspring? Or do you want to learn how to do one? This event is only for current students enrolled in gymnastics Intermediare Level 3\, Advanced level 4-6\, Intermediate and Advanced Cheer Tumble classes.
URL:https://texaseastkids.com/event/back-handspring-clinic-5/
LOCATION:Texas East Kids | Building A\, 1914 Deerbrook Drive\, Tyler\, TX\, 75703\, United States
CATEGORIES:Back Handspring Clinic
ATTACH;FMTTYPE=image/jpeg:https://texaseastkids.com/wp-content/uploads/2023/08/IMG_3412.jpeg
ORGANIZER;CN="Texas East Kids":MAILTO:theoffice@texaseastkids.com
END:VEVENT
END:VCALENDAR